BEGIN:VCALENDAR
PRODID:-//SoulAndWolf//SilverStripe//EN
VERSION:2.0
BEGIN:VEVENT
DTSTART;TZID=Australia/Melbourne:20260425T140000
DTEND;TZID=Australia/Melbourne:20260425T143000
DESCRIPTION:https://www.woodards.com.au/property/22-brentani-avenue-elsternwick-3185-1889542/
SUMMARY:Inspection at 22 Brentani Avenue
LOCATION:22 Brentani Avenue, Elsternwick, VIC 3185
URL:https://www.woodards.com.au/property/22-brentani-avenue-elsternwick-3185-1889542/
END:VEVENT
END:VCALENDAR