BEGIN:VCALENDAR
PRODID:-//SoulAndWolf//SilverStripe//EN
VERSION:2.0
BEGIN:VEVENT
DTSTART;TZID=Australia/Melbourne:20260228T123000
DTEND;TZID=Australia/Melbourne:20260228T143000
DESCRIPTION:https://www.woodards.com.au/property/22-william-street-oakleigh-3166-1853333/
SUMMARY:Auction at 22 William Street
LOCATION:22 William Street, Oakleigh, VIC 3166
URL:https://www.woodards.com.au/property/22-william-street-oakleigh-3166-1853333/
END:VEVENT
END:VCALENDAR