BEGIN:VCALENDAR
PRODID:-//SoulAndWolf//SilverStripe//EN
VERSION:2.0
BEGIN:VEVENT
DTSTART;TZID=Australia/Melbourne:20251129T103000
DTEND;TZID=Australia/Melbourne:20251129T123000
DESCRIPTION:https://www.woodards.com.au/property/227-mansfield-street-thornbury-3071-1826151/
SUMMARY:Auction at 227 Mansfield Street
LOCATION:227 Mansfield Street, Thornbury, VIC 3071
URL:https://www.woodards.com.au/property/227-mansfield-street-thornbury-3071-1826151/
END:VEVENT
END:VCALENDAR