BEGIN:VCALENDAR
PRODID:-//SoulAndWolf//SilverStripe//EN
VERSION:2.0
BEGIN:VEVENT
DTSTART;TZID=Australia/Melbourne:20260425T150000
DTEND;TZID=Australia/Melbourne:20260425T151500
DESCRIPTION:https://www.woodards.com.au/property/228-oriel-road-heidelberg-west-3081-1892578/
SUMMARY:Inspection at 228 Oriel Road
LOCATION:228 Oriel Road, Heidelberg West, VIC 3081
URL:https://www.woodards.com.au/property/228-oriel-road-heidelberg-west-3081-1892578/
END:VEVENT
END:VCALENDAR