BEGIN:VCALENDAR
PRODID:-//SoulAndWolf//SilverStripe//EN
VERSION:2.0
BEGIN:VEVENT
DTSTART;TZID=Australia/Melbourne:20250628T100000
DTEND;TZID=Australia/Melbourne:20250628T120000
DESCRIPTION:https://www.woodards.com.au/property/23-croft-crescent-reservoir-3073-1717113/
SUMMARY:Auction at 23 Croft Crescent
LOCATION:23 Croft Crescent, Reservoir, VIC 3073
URL:https://www.woodards.com.au/property/23-croft-crescent-reservoir-3073-1717113/
END:VEVENT
END:VCALENDAR