BEGIN:VCALENDAR
PRODID:-//SoulAndWolf//SilverStripe//EN
VERSION:2.0
BEGIN:VEVENT
DTSTART;TZID=Australia/Melbourne:20260207T100000
DTEND;TZID=Australia/Melbourne:20260207T120000
DESCRIPTION:https://www.woodards.com.au/property/23-murrumbeena-road-murrumbeena-3163-1843788/
SUMMARY:Auction at 23 Murrumbeena Road
LOCATION:23 Murrumbeena Road, Murrumbeena, VIC 3163
URL:https://www.woodards.com.au/property/23-murrumbeena-road-murrumbeena-3163-1843788/
END:VEVENT
END:VCALENDAR