BEGIN:VCALENDAR
PRODID:-//SoulAndWolf//SilverStripe//EN
VERSION:2.0
BEGIN:VEVENT
DTSTART;TZID=Australia/Melbourne:20251206T143000
DTEND;TZID=Australia/Melbourne:20251206T163000
DESCRIPTION:https://www.woodards.com.au/property/23-surrey-crescent-oakleigh-east-3166-1830056/
SUMMARY:Auction at 23 Surrey Crescent
LOCATION:23 Surrey Crescent, Oakleigh East, VIC 3166
URL:https://www.woodards.com.au/property/23-surrey-crescent-oakleigh-east-3166-1830056/
END:VEVENT
END:VCALENDAR