BEGIN:VCALENDAR
PRODID:-//SoulAndWolf//SilverStripe//EN
VERSION:2.0
BEGIN:VEVENT
DTSTART;TZID=Australia/Melbourne:20241130T110000
DTEND;TZID=Australia/Melbourne:20241130T130000
DESCRIPTION:https://www.woodards.com.au/property/24-barwon-avenue-keilor-3036-1599555/
SUMMARY:Auction at 24 Barwon Avenue
LOCATION:24 Barwon Avenue, Keilor, VIC 3036
URL:https://www.woodards.com.au/property/24-barwon-avenue-keilor-3036-1599555/
END:VEVENT
END:VCALENDAR