BEGIN:VCALENDAR
PRODID:-//SoulAndWolf//SilverStripe//EN
VERSION:2.0
BEGIN:VEVENT
DTSTART;TZID=Australia/Melbourne:20260426T121500
DTEND;TZID=Australia/Melbourne:20260426T123000
DESCRIPTION:https://www.woodards.com.au/property/240-pengana-avenue-glenroy-3046-1885644/
SUMMARY:Inspection at 2/40 Pengana Avenue
LOCATION:2/40 Pengana Avenue, Glenroy, VIC 3046
URL:https://www.woodards.com.au/property/240-pengana-avenue-glenroy-3046-1885644/
END:VEVENT
END:VCALENDAR