BEGIN:VCALENDAR
PRODID:-//SoulAndWolf//SilverStripe//EN
VERSION:2.0
BEGIN:VEVENT
DTSTART;TZID=Australia/Melbourne:20260426T093000
DTEND;TZID=Australia/Melbourne:20260426T094500
DESCRIPTION:https://www.woodards.com.au/property/25-lynch-street-footscray-3011-1885182/
SUMMARY:Inspection at 25 Lynch Street
LOCATION:25 Lynch Street, Footscray, VIC 3011
URL:https://www.woodards.com.au/property/25-lynch-street-footscray-3011-1885182/
END:VEVENT
END:VCALENDAR