BEGIN:VCALENDAR
PRODID:-//SoulAndWolf//SilverStripe//EN
VERSION:2.0
BEGIN:VEVENT
DTSTART;TZID=Australia/Melbourne:20231111T103000
DTEND;TZID=Australia/Melbourne:20231111T123000
DESCRIPTION:https://www.woodards.com.au/property/25-mendip-road-reservoir-3073-1439632/
SUMMARY:Auction at 25 Mendip Road
LOCATION:25 Mendip Road, Reservoir, VIC 3073
URL:https://www.woodards.com.au/property/25-mendip-road-reservoir-3073-1439632/
END:VEVENT
END:VCALENDAR