BEGIN:VCALENDAR
PRODID:-//SoulAndWolf//SilverStripe//EN
VERSION:2.0
BEGIN:VEVENT
DTSTART;TZID=Australia/Melbourne:20250315T143000
DTEND;TZID=Australia/Melbourne:20250315T163000
DESCRIPTION:https://www.woodards.com.au/property/26-elder-street-clarinda-3169-1640729/
SUMMARY:Auction at 26 Elder Street
LOCATION:26 Elder Street, Clarinda, VIC 3169
URL:https://www.woodards.com.au/property/26-elder-street-clarinda-3169-1640729/
END:VEVENT
END:VCALENDAR