BEGIN:VCALENDAR
PRODID:-//SoulAndWolf//SilverStripe//EN
VERSION:2.0
BEGIN:VEVENT
DTSTART;TZID=Australia/Melbourne:20260328T113000
DTEND;TZID=Australia/Melbourne:20260328T133000
DESCRIPTION:https://www.woodards.com.au/property/26-helen-road-chadstone-3148-1873860/
SUMMARY:Auction at 26 Helen Road
LOCATION:26 Helen Road, Chadstone, VIC 3148
URL:https://www.woodards.com.au/property/26-helen-road-chadstone-3148-1873860/
END:VEVENT
END:VCALENDAR