BEGIN:VCALENDAR
PRODID:-//SoulAndWolf//SilverStripe//EN
VERSION:2.0
BEGIN:VEVENT
DTSTART;TZID=Australia/Melbourne:20260228T120000
DTEND;TZID=Australia/Melbourne:20260228T140000
DESCRIPTION:https://www.woodards.com.au/property/27-charlton-street-blackburn-north-3130-1856094/
SUMMARY:Auction at 27 Charlton Street
LOCATION:27 Charlton Street, Blackburn North, VIC 3130
URL:https://www.woodards.com.au/property/27-charlton-street-blackburn-north-3130-1856094/
END:VEVENT
END:VCALENDAR