BEGIN:VCALENDAR
PRODID:-//SoulAndWolf//SilverStripe//EN
VERSION:2.0
BEGIN:VEVENT
DTSTART;TZID=Australia/Melbourne:20260429T170000
DTEND;TZID=Australia/Melbourne:20260429T173000
DESCRIPTION:https://www.woodards.com.au/property/27-ferndell-crescent-templestowe-3106-1892301/
SUMMARY:Inspection at 27 Ferndell Crescent
LOCATION:27 Ferndell Crescent, Templestowe, VIC 3106
URL:https://www.woodards.com.au/property/27-ferndell-crescent-templestowe-3106-1892301/
END:VEVENT
END:VCALENDAR