BEGIN:VCALENDAR
PRODID:-//SoulAndWolf//SilverStripe//EN
VERSION:2.0
BEGIN:VEVENT
DTSTART;TZID=Australia/Melbourne:20250315T120000
DTEND;TZID=Australia/Melbourne:20250315T140000
DESCRIPTION:https://www.woodards.com.au/property/27-frederick-street-caulfield-south-3162-1642423/
SUMMARY:Auction at 27 Frederick Street
LOCATION:27 Frederick Street, Caulfield South, VIC 3162
URL:https://www.woodards.com.au/property/27-frederick-street-caulfield-south-3162-1642423/
END:VEVENT
END:VCALENDAR