BEGIN:VCALENDAR
PRODID:-//SoulAndWolf//SilverStripe//EN
VERSION:2.0
BEGIN:VEVENT
DTSTART;TZID=Australia/Melbourne:20251129T113000
DTEND;TZID=Australia/Melbourne:20251129T133000
DESCRIPTION:https://www.woodards.com.au/property/27a-bolwarra-street-chadstone-3148-1827032/
SUMMARY:Auction at 27A Bolwarra Street
LOCATION:27A Bolwarra Street, Chadstone, VIC 3148
URL:https://www.woodards.com.au/property/27a-bolwarra-street-chadstone-3148-1827032/
END:VEVENT
END:VCALENDAR