BEGIN:VCALENDAR
PRODID:-//SoulAndWolf//SilverStripe//EN
VERSION:2.0
BEGIN:VEVENT
DTSTART;TZID=Australia/Melbourne:20250920T140000
DTEND;TZID=Australia/Melbourne:20250920T160000
DESCRIPTION:https://www.woodards.com.au/property/28-fordham-road-reservoir-3073-1771033/
SUMMARY:Auction at 28 Fordham Road
LOCATION:28 Fordham Road, Reservoir, VIC 3073
URL:https://www.woodards.com.au/property/28-fordham-road-reservoir-3073-1771033/
END:VEVENT
END:VCALENDAR