BEGIN:VCALENDAR
PRODID:-//SoulAndWolf//SilverStripe//EN
VERSION:2.0
BEGIN:VEVENT
DTSTART;TZID=Australia/Melbourne:20260425T151000
DTEND;TZID=Australia/Melbourne:20260425T152500
DESCRIPTION:https://www.woodards.com.au/property/29-1-eucalyptus-mews-notting-hill-3168-1887351/
SUMMARY:Inspection at 29/1 Eucalyptus Mews
LOCATION:29/1 Eucalyptus Mews, Notting Hill, VIC 3168
URL:https://www.woodards.com.au/property/29-1-eucalyptus-mews-notting-hill-3168-1887351/
END:VEVENT
END:VCALENDAR