BEGIN:VCALENDAR
PRODID:-//SoulAndWolf//SilverStripe//EN
VERSION:2.0
BEGIN:VEVENT
DTSTART;TZID=Australia/Melbourne:20241109T153000
DTEND;TZID=Australia/Melbourne:20241109T173000
DESCRIPTION:https://www.woodards.com.au/property/2a-cromwell-street-eltham-3095-1583015/
SUMMARY:Auction at 2A Cromwell Street
LOCATION:2A Cromwell Street, Eltham, VIC 3095
URL:https://www.woodards.com.au/property/2a-cromwell-street-eltham-3095-1583015/
END:VEVENT
END:VCALENDAR