BEGIN:VCALENDAR
PRODID:-//SoulAndWolf//SilverStripe//EN
VERSION:2.0
BEGIN:VEVENT
DTSTART;TZID=Australia/Melbourne:20260429T160000
DTEND;TZID=Australia/Melbourne:20260429T161500
DESCRIPTION:https://www.woodards.com.au/property/3-1-andrew-street-ringwood-3134-1890866/
SUMMARY:Inspection at 3/1 Andrew Street
LOCATION:3/1 Andrew Street, Ringwood, VIC 3134
URL:https://www.woodards.com.au/property/3-1-andrew-street-ringwood-3134-1890866/
END:VEVENT
END:VCALENDAR