BEGIN:VCALENDAR
PRODID:-//SoulAndWolf//SilverStripe//EN
VERSION:2.0
BEGIN:VEVENT
DTSTART;TZID=Australia/Melbourne:20251108T120000
DTEND;TZID=Australia/Melbourne:20251108T140000
DESCRIPTION:https://www.woodards.com.au/property/3-11-claire-street-mckinnon-3204-1813726/
SUMMARY:Auction at 3/11 Claire Street
LOCATION:3/11 Claire Street, Mckinnon, VIC 3204
URL:https://www.woodards.com.au/property/3-11-claire-street-mckinnon-3204-1813726/
END:VEVENT
END:VCALENDAR