BEGIN:VCALENDAR
PRODID:-//SoulAndWolf//SilverStripe//EN
VERSION:2.0
BEGIN:VEVENT
DTSTART;TZID=Australia/Melbourne:20260425T150000
DTEND;TZID=Australia/Melbourne:20260425T153000
DESCRIPTION:https://www.woodards.com.au/property/3-1113-dandenong-road-malvern-east-3145-1889639/
SUMMARY:Inspection at 3/1113 Dandenong Road
LOCATION:3/1113 Dandenong Road, Malvern East, VIC 3145
URL:https://www.woodards.com.au/property/3-1113-dandenong-road-malvern-east-3145-1889639/
END:VEVENT
END:VCALENDAR