BEGIN:VCALENDAR
PRODID:-//SoulAndWolf//SilverStripe//EN
VERSION:2.0
BEGIN:VEVENT
DTSTART;TZID=Australia/Melbourne:20260207T120000
DTEND;TZID=Australia/Melbourne:20260207T140000
DESCRIPTION:https://www.woodards.com.au/property/3-1229-glen-huntly-road-carnegie-3163-1848432/
SUMMARY:Auction at 3/1229 Glen Huntly Road
LOCATION:3/1229 Glen Huntly Road, Carnegie, VIC 3163
URL:https://www.woodards.com.au/property/3-1229-glen-huntly-road-carnegie-3163-1848432/
END:VEVENT
END:VCALENDAR