BEGIN:VCALENDAR
PRODID:-//SoulAndWolf//SilverStripe//EN
VERSION:2.0
BEGIN:VEVENT
DTSTART;TZID=Australia/Melbourne:20260314T103000
DTEND;TZID=Australia/Melbourne:20260314T123000
DESCRIPTION:https://www.woodards.com.au/property/3-125-glenlyon-road-brunswick-3056-1860140/
SUMMARY:Auction at 3/125 Glenlyon Road
LOCATION:3/125 Glenlyon Road, Brunswick, VIC 3056
URL:https://www.woodards.com.au/property/3-125-glenlyon-road-brunswick-3056-1860140/
END:VEVENT
END:VCALENDAR