BEGIN:VCALENDAR
PRODID:-//SoulAndWolf//SilverStripe//EN
VERSION:2.0
BEGIN:VEVENT
DTSTART;TZID=Australia/Melbourne:20260214T143000
DTEND;TZID=Australia/Melbourne:20260214T163000
DESCRIPTION:https://www.woodards.com.au/property/3-146-north-road-reservoir-3073-1843849/
SUMMARY:Auction at 3/146 North Road
LOCATION:3/146 North Road, Reservoir, VIC 3073
URL:https://www.woodards.com.au/property/3-146-north-road-reservoir-3073-1843849/
END:VEVENT
END:VCALENDAR