BEGIN:VCALENDAR
PRODID:-//SoulAndWolf//SilverStripe//EN
VERSION:2.0
BEGIN:VEVENT
DTSTART;TZID=Australia/Melbourne:20260425T161500
DTEND;TZID=Australia/Melbourne:20260425T163000
DESCRIPTION:https://www.woodards.com.au/property/3-16-station-avenue-glen-iris-3146-1890422/
SUMMARY:Inspection at 3/16 Station Avenue
LOCATION:3/16 Station Avenue, Glen Iris, VIC 3146
URL:https://www.woodards.com.au/property/3-16-station-avenue-glen-iris-3146-1890422/
END:VEVENT
END:VCALENDAR