BEGIN:VCALENDAR
PRODID:-//SoulAndWolf//SilverStripe//EN
VERSION:2.0
BEGIN:VEVENT
DTSTART;TZID=Australia/Melbourne:20251218T183000
DTEND;TZID=Australia/Melbourne:20251218T203000
DESCRIPTION:https://www.woodards.com.au/property/3-208-maribyrnong-road-moonee-ponds-3039-1836571/
SUMMARY:Auction at 3/208 Maribyrnong Road
LOCATION:3/208 Maribyrnong Road, Moonee Ponds, VIC 3039
URL:https://www.woodards.com.au/property/3-208-maribyrnong-road-moonee-ponds-3039-1836571/
END:VEVENT
END:VCALENDAR