BEGIN:VCALENDAR
PRODID:-//SoulAndWolf//SilverStripe//EN
VERSION:2.0
BEGIN:VEVENT
DTSTART;TZID=Australia/Melbourne:20251108T133000
DTEND;TZID=Australia/Melbourne:20251108T153000
DESCRIPTION:https://www.woodards.com.au/property/3-21-john-street-oakleigh-3166-1815375/
SUMMARY:Auction at 3/21 John Street
LOCATION:3/21 John Street, Oakleigh, VIC 3166
URL:https://www.woodards.com.au/property/3-21-john-street-oakleigh-3166-1815375/
END:VEVENT
END:VCALENDAR