BEGIN:VCALENDAR
PRODID:-//SoulAndWolf//SilverStripe//EN
VERSION:2.0
BEGIN:VEVENT
DTSTART;TZID=Australia/Melbourne:20260228T100000
DTEND;TZID=Australia/Melbourne:20260228T120000
DESCRIPTION:https://www.woodards.com.au/property/3-26-bonwick-street-fawkner-3060-1859245/
SUMMARY:Auction at 3/26 Bonwick Street
LOCATION:3/26 Bonwick Street, Fawkner, VIC 3060
URL:https://www.woodards.com.au/property/3-26-bonwick-street-fawkner-3060-1859245/
END:VEVENT
END:VCALENDAR