BEGIN:VCALENDAR
PRODID:-//SoulAndWolf//SilverStripe//EN
VERSION:2.0
BEGIN:VEVENT
DTSTART;TZID=Australia/Melbourne:20260122T180000
DTEND;TZID=Australia/Melbourne:20260122T200000
DESCRIPTION:https://www.woodards.com.au/property/3-309-carlisle-street-balaclava-3183-1835954/
SUMMARY:Auction at 3/309 Carlisle Street
LOCATION:3/309 Carlisle Street, Balaclava, VIC 3183
URL:https://www.woodards.com.au/property/3-309-carlisle-street-balaclava-3183-1835954/
END:VEVENT
END:VCALENDAR