BEGIN:VCALENDAR
PRODID:-//SoulAndWolf//SilverStripe//EN
VERSION:2.0
BEGIN:VEVENT
DTSTART;TZID=Australia/Melbourne:20251122T100000
DTEND;TZID=Australia/Melbourne:20251122T120000
DESCRIPTION:https://www.woodards.com.au/property/3-38-william-street-lalor-3075-1826045/
SUMMARY:Auction at 3/38 William Street
LOCATION:3/38 William Street, Lalor, VIC 3075
URL:https://www.woodards.com.au/property/3-38-william-street-lalor-3075-1826045/
END:VEVENT
END:VCALENDAR