BEGIN:VCALENDAR
PRODID:-//SoulAndWolf//SilverStripe//EN
VERSION:2.0
BEGIN:VEVENT
DTSTART;TZID=Australia/Melbourne:20251206T133000
DTEND;TZID=Australia/Melbourne:20251206T153000
DESCRIPTION:https://www.woodards.com.au/property/3-4-reid-street-oakleigh-south-3167-1827538/
SUMMARY:Auction at 3/4 Reid Street
LOCATION:3/4 Reid Street, Oakleigh South, VIC 3167
URL:https://www.woodards.com.au/property/3-4-reid-street-oakleigh-south-3167-1827538/
END:VEVENT
END:VCALENDAR