BEGIN:VCALENDAR
PRODID:-//SoulAndWolf//SilverStripe//EN
VERSION:2.0
BEGIN:VEVENT
DTSTART;TZID=Australia/Melbourne:20260426T114500
DTEND;TZID=Australia/Melbourne:20260426T121500
DESCRIPTION:https://www.woodards.com.au/property/3-40-hopetoun-avenue-brunswick-west-3055-1889946/
SUMMARY:Inspection at 3/40 Hopetoun Avenue
LOCATION:3/40 Hopetoun Avenue, Brunswick West, VIC 3055
URL:https://www.woodards.com.au/property/3-40-hopetoun-avenue-brunswick-west-3055-1889946/
END:VEVENT
END:VCALENDAR