BEGIN:VCALENDAR
PRODID:-//SoulAndWolf//SilverStripe//EN
VERSION:2.0
BEGIN:VEVENT
DTSTART;TZID=Australia/Melbourne:20260430T172000
DTEND;TZID=Australia/Melbourne:20260430T173000
DESCRIPTION:https://www.woodards.com.au/property/3-42-44-marlborough-road-heathmont-3135-1892698/
SUMMARY:Inspection at 3/42-44 Marlborough Road
LOCATION:3/42-44 Marlborough Road, Heathmont, VIC 3135
URL:https://www.woodards.com.au/property/3-42-44-marlborough-road-heathmont-3135-1892698/
END:VEVENT
END:VCALENDAR