BEGIN:VCALENDAR
PRODID:-//SoulAndWolf//SilverStripe//EN
VERSION:2.0
BEGIN:VEVENT
DTSTART;TZID=Australia/Melbourne:20260425T141000
DTEND;TZID=Australia/Melbourne:20260425T142500
DESCRIPTION:https://www.woodards.com.au/property/3-5-garrisson-dr-glen-waverley-3150-1847327/
SUMMARY:Inspection at 3/5 Garrisson Dr
LOCATION:3/5 Garrisson Dr, Glen Waverley, VIC 3150
URL:https://www.woodards.com.au/property/3-5-garrisson-dr-glen-waverley-3150-1847327/
END:VEVENT
END:VCALENDAR