BEGIN:VCALENDAR
PRODID:-//SoulAndWolf//SilverStripe//EN
VERSION:2.0
BEGIN:VEVENT
DTSTART;TZID=Australia/Melbourne:20260509T123000
DTEND;TZID=Australia/Melbourne:20260509T130000
DESCRIPTION:https://www.woodards.com.au/property/3-6-fletcher-parade-burwood-3125-1892751/
SUMMARY:Inspection at 3/6 Fletcher Parade
LOCATION:3/6 Fletcher Parade, Burwood, VIC 3125
URL:https://www.woodards.com.au/property/3-6-fletcher-parade-burwood-3125-1892751/
END:VEVENT
END:VCALENDAR