BEGIN:VCALENDAR
PRODID:-//SoulAndWolf//SilverStripe//EN
VERSION:2.0
BEGIN:VEVENT
DTSTART;TZID=Australia/Melbourne:20260228T113000
DTEND;TZID=Australia/Melbourne:20260228T133000
DESCRIPTION:https://www.woodards.com.au/property/3-6-reid-street-oakleigh-south-3167-1855677/
SUMMARY:Auction at 3/6 Reid Street
LOCATION:3/6 Reid Street, Oakleigh South, VIC 3167
URL:https://www.woodards.com.au/property/3-6-reid-street-oakleigh-south-3167-1855677/
END:VEVENT
END:VCALENDAR