BEGIN:VCALENDAR
PRODID:-//SoulAndWolf//SilverStripe//EN
VERSION:2.0
BEGIN:VEVENT
DTSTART;TZID=Australia/Melbourne:20260207T140000
DTEND;TZID=Australia/Melbourne:20260207T160000
DESCRIPTION:https://www.woodards.com.au/property/3-7-odowd-street-reservoir-3073-1844511/
SUMMARY:Auction at 3/7 Odowd Street
LOCATION:3/7 Odowd Street, Reservoir, VIC 3073
URL:https://www.woodards.com.au/property/3-7-odowd-street-reservoir-3073-1844511/
END:VEVENT
END:VCALENDAR