BEGIN:VCALENDAR
PRODID:-//SoulAndWolf//SilverStripe//EN
VERSION:2.0
BEGIN:VEVENT
DTSTART;TZID=Australia/Melbourne:20251213T150000
DTEND;TZID=Australia/Melbourne:20251213T170000
DESCRIPTION:https://www.woodards.com.au/property/3-7-station-avenue-mckinnon-3204-1836408/
SUMMARY:Auction at 3/7 Station Avenue
LOCATION:3/7 Station Avenue, Mckinnon, VIC 3204
URL:https://www.woodards.com.au/property/3-7-station-avenue-mckinnon-3204-1836408/
END:VEVENT
END:VCALENDAR