BEGIN:VCALENDAR
PRODID:-//SoulAndWolf//SilverStripe//EN
VERSION:2.0
BEGIN:VEVENT
DTSTART;TZID=Australia/Melbourne:20251025T153000
DTEND;TZID=Australia/Melbourne:20251025T173000
DESCRIPTION:https://www.woodards.com.au/property/3-crampton-crescent-mill-park-3082-1809754/
SUMMARY:Auction at 3 Crampton Crescent
LOCATION:3 Crampton Crescent, Mill Park, VIC 3082
URL:https://www.woodards.com.au/property/3-crampton-crescent-mill-park-3082-1809754/
END:VEVENT
END:VCALENDAR