BEGIN:VCALENDAR
PRODID:-//SoulAndWolf//SilverStripe//EN
VERSION:2.0
BEGIN:VEVENT
DTSTART;TZID=Australia/Melbourne:20240224T103000
DTEND;TZID=Australia/Melbourne:20240224T123000
DESCRIPTION:https://www.woodards.com.au/property/3-eltham-glen-derrimut-3026-1776067/
SUMMARY:Auction at 3 Eltham Glen
LOCATION:3 Eltham Glen, Derrimut, VIC 3026
URL:https://www.woodards.com.au/property/3-eltham-glen-derrimut-3026-1776067/
END:VEVENT
END:VCALENDAR