BEGIN:VCALENDAR
PRODID:-//SoulAndWolf//SilverStripe//EN
VERSION:2.0
BEGIN:VEVENT
DTSTART;TZID=Australia/Melbourne:20260221T110000
DTEND;TZID=Australia/Melbourne:20260221T130000
DESCRIPTION:https://www.woodards.com.au/property/3-lincoln-road-essendon-3040-1820942/
SUMMARY:Auction at 3 Lincoln Road
LOCATION:3 Lincoln Road, Essendon, VIC 3040
URL:https://www.woodards.com.au/property/3-lincoln-road-essendon-3040-1820942/
END:VEVENT
END:VCALENDAR