BEGIN:VCALENDAR
PRODID:-//SoulAndWolf//SilverStripe//EN
VERSION:2.0
BEGIN:VEVENT
DTSTART;TZID=Australia/Melbourne:20250906T140000
DTEND;TZID=Australia/Melbourne:20250906T160000
DESCRIPTION:https://www.woodards.com.au/property/30-wellard-road-box-hill-south-3128-1753450/
SUMMARY:Auction at 30 Wellard Road
LOCATION:30 Wellard Road, Box Hill South, VIC 3128
URL:https://www.woodards.com.au/property/30-wellard-road-box-hill-south-3128-1753450/
END:VEVENT
END:VCALENDAR