BEGIN:VCALENDAR
PRODID:-//SoulAndWolf//SilverStripe//EN
VERSION:2.0
BEGIN:VEVENT
DTSTART;TZID=Australia/Melbourne:20260425T130000
DTEND;TZID=Australia/Melbourne:20260425T133000
DESCRIPTION:https://www.woodards.com.au/property/305-306-312-swan-street-richmond-3121-1873352/
SUMMARY:Inspection at 305/306-312 Swan Street
LOCATION:305/306-312 Swan Street, Richmond, VIC 3121
URL:https://www.woodards.com.au/property/305-306-312-swan-street-richmond-3121-1873352/
END:VEVENT
END:VCALENDAR