BEGIN:VCALENDAR
PRODID:-//SoulAndWolf//SilverStripe//EN
VERSION:2.0
BEGIN:VEVENT
DTSTART;TZID=Australia/Melbourne:20260425T140000
DTEND;TZID=Australia/Melbourne:20260425T143000
DESCRIPTION:https://www.woodards.com.au/property/306-300-middleborough-road-blackburn-3130-1885685/
SUMMARY:Inspection at 306/300 Middleborough Road
LOCATION:306/300 Middleborough Road, Blackburn, VIC 3130
URL:https://www.woodards.com.au/property/306-300-middleborough-road-blackburn-3130-1885685/
END:VEVENT
END:VCALENDAR