BEGIN:VCALENDAR
PRODID:-//SoulAndWolf//SilverStripe//EN
VERSION:2.0
BEGIN:VEVENT
DTSTART;TZID=Australia/Melbourne:20251011T150000
DTEND;TZID=Australia/Melbourne:20251011T170000
DESCRIPTION:https://www.woodards.com.au/property/31-coppice-street-mernda-3754-1782526/
SUMMARY:Auction at 31 Coppice Street
LOCATION:31 Coppice Street, Mernda, VIC 3754
URL:https://www.woodards.com.au/property/31-coppice-street-mernda-3754-1782526/
END:VEVENT
END:VCALENDAR