BEGIN:VCALENDAR
PRODID:-//SoulAndWolf//SilverStripe//EN
VERSION:2.0
BEGIN:VEVENT
DTSTART;TZID=Australia/Melbourne:20260425T141500
DTEND;TZID=Australia/Melbourne:20260425T144500
DESCRIPTION:https://www.woodards.com.au/property/310-19-pentridge-boulevard-coburg-3058-1891934/
SUMMARY:Inspection at 310/19 Pentridge Boulevard
LOCATION:310/19 Pentridge Boulevard, Coburg, VIC 3058
URL:https://www.woodards.com.au/property/310-19-pentridge-boulevard-coburg-3058-1891934/
END:VEVENT
END:VCALENDAR