BEGIN:VCALENDAR
PRODID:-//SoulAndWolf//SilverStripe//EN
VERSION:2.0
BEGIN:VEVENT
DTSTART;TZID=Australia/Melbourne:20260425T150000
DTEND;TZID=Australia/Melbourne:20260425T153000
DESCRIPTION:https://www.woodards.com.au/property/312-and-312a-middleborough-road-blackburn-3130-1861450/
SUMMARY:Inspection at 312 & 312A Middleborough Road
LOCATION:312 & 312A Middleborough Road, Blackburn, VIC 3130
URL:https://www.woodards.com.au/property/312-and-312a-middleborough-road-blackburn-3130-1861450/
END:VEVENT
END:VCALENDAR