BEGIN:VCALENDAR
PRODID:-//SoulAndWolf//SilverStripe//EN
VERSION:2.0
BEGIN:VEVENT
DTSTART;TZID=Australia/Melbourne:20260516T110000
DTEND;TZID=Australia/Melbourne:20260516T130000
DESCRIPTION:https://www.woodards.com.au/property/3139-bradshaw-street-essendon-3040-1890717/
SUMMARY:Auction at 3/139 Bradshaw Street
LOCATION:3/139 Bradshaw Street, Essendon, VIC 3040
URL:https://www.woodards.com.au/property/3139-bradshaw-street-essendon-3040-1890717/
END:VEVENT
END:VCALENDAR